BEGIN:VCALENDAR
VERSION:2.0
PRODID:-//College of Nursing - ECPv6.1.3//NONSGML v1.0//EN
CALSCALE:GREGORIAN
METHOD:PUBLISH
X-WR-CALNAME:College of Nursing
X-ORIGINAL-URL:https://nursing.wsu.edu
X-WR-CALDESC:Events for College of Nursing
REFRESH-INTERVAL;VALUE=DURATION:PT1H
X-Robots-Tag:noindex
X-PUBLISHED-TTL:PT1H
BEGIN:VTIMEZONE
TZID:America/Los_Angeles
BEGIN:DAYLIGHT
TZOFFSETFROM:-0800
TZOFFSETTO:-0700
TZNAME:PDT
DTSTART:20260308T100000
END:DAYLIGHT
BEGIN:STANDARD
TZOFFSETFROM:-0700
TZOFFSETTO:-0800
TZNAME:PST
DTSTART:20261101T090000
END:STANDARD
END:VTIMEZONE
BEGIN:VEVENT
DTSTART;TZID=America/Los_Angeles:20260504T153000
DTEND;TZID=America/Los_Angeles:20260504T163000
DTSTAMP:20260423T102630
CREATED:20260422T194757Z
LAST-MODIFIED:20260422T194757Z
UID:57227-1777908600-1777912200@nursing.wsu.edu
SUMMARY:Ring in the Moment
DESCRIPTION:Please join Washington State University and STCU for a dedication ceremony celebrating the installation of Pages of Care\, a new sculpture by artist James Dinh that honors our longstanding partnership and STCU’s ongoing support of WSU health sciences students and programs. \nThe ceremony will conclude with a historic first: members of the graduating Class of 2026 will be invited to ring the bell\, ceremonially marking their academic achievements and inaugurating a new tradition centered on the sculpture’s signature element. \nProgram and Inaugural Ringing followed by a reception with Ferdinand’s Grabbers and photos. \nWSU Spokane\, Medicine Building Patio\n668 N. Riverpoint Blvd.\, Spokane\, WA 99202 \nRSVP below
URL:https://nursing.wsu.edu/event/ring-in-the-moment/
LOCATION:WSU Elson S. Floyd College of Medicine\, 668 N. Riverpoint Blvd.\, Spokane\, WA\, 99201\, United States
CATEGORIES:Community Engagement Council
ATTACH;FMTTYPE=image/png:https://wpcdn.web.wsu.edu/wp-nursing/uploads/sites/3014/2026/04/26_BellRingingCeremony2.png
ORGANIZER;CN="Heather%20Byrd":MAILTO:heather.byrd@wsu.edu
END:VEVENT
END:VCALENDAR