BEGIN:VCALENDAR
VERSION:2.0
PRODID:-//College of Nursing - ECPv6.1.3//NONSGML v1.0//EN
CALSCALE:GREGORIAN
METHOD:PUBLISH
X-WR-CALNAME:College of Nursing
X-ORIGINAL-URL:https://nursing.wsu.edu
X-WR-CALDESC:Events for College of Nursing
REFRESH-INTERVAL;VALUE=DURATION:PT1H
X-Robots-Tag:noindex
X-PUBLISHED-TTL:PT1H
BEGIN:VTIMEZONE
TZID:America/Los_Angeles
BEGIN:DAYLIGHT
TZOFFSETFROM:-0800
TZOFFSETTO:-0700
TZNAME:PDT
DTSTART:20250309T100000
END:DAYLIGHT
BEGIN:STANDARD
TZOFFSETFROM:-0700
TZOFFSETTO:-0800
TZNAME:PST
DTSTART:20251102T090000
END:STANDARD
END:VTIMEZONE
BEGIN:VEVENT
DTSTART;TZID=America/Los_Angeles:20250221T080000
DTEND;TZID=America/Los_Angeles:20250221T170000
DTSTAMP:20260424T044249
CREATED:20250221T184105Z
LAST-MODIFIED:20250221T184105Z
UID:51020-1740124800-1740157200@nursing.wsu.edu
SUMMARY:Northwest Organization of Nurse Leaders (NWONL) Annual Conference- Leading with Purpose: Impacting our Future Together
DESCRIPTION:Join us in May for the premier Nursing Leadership event in our region! Be ready for engaging session focuses\, including:\nQuality: Owning Outcomes\, Empowering Change \nNurse leaders hold the keys to unlocking excellence in patient care. By empowering and guiding nurses to recognize and maximize their contributions\, we create a culture of accountability and high-quality outcomes. \nApplied Resilience: Thriving Amidst Challenges \nLeadership demands the courage to navigate tough conversations\, manage difficult personalities\, and maintain patience under pressure. Gain insights to help equip you with the tools to cultivate resilience and lead with strength throughout your career. \nHealthy Workplaces: Building Foundations for Success \nDiscover actionable strategies to foster a vibrant and supportive workplace culture. Learn how to better champion well-being for yourself and your team. \nStaff Development: Nurturing Talent\, Inspiring Growth \nGreat leaders ignite curiosity and fuel passion by truly understanding their teams. Through mentorship and meaningful opportunities\, nurse leaders empower their staff to sharpen their clinical expertise\, expand their impact\, and discover fulfillment in their professional journeys.
URL:https://nursing.wsu.edu/event/northwest-organization-of-nurse-leaders-nwonl-annual-conference-leading-with-purpose-impacting-our-future-together/
LOCATION:Portland Marriott Downtown Waterfront\, 1401 Southwest Naito Parkway\, Portland\, OR
CATEGORIES:Conference,Continuing Education
END:VEVENT
END:VCALENDAR