BEGIN:VCALENDAR
VERSION:2.0
PRODID:-//College of Nursing - ECPv6.1.3//NONSGML v1.0//EN
CALSCALE:GREGORIAN
METHOD:PUBLISH
X-WR-CALNAME:College of Nursing
X-ORIGINAL-URL:https://nursing.wsu.edu
X-WR-CALDESC:Events for College of Nursing
REFRESH-INTERVAL;VALUE=DURATION:PT1H
X-Robots-Tag:noindex
X-PUBLISHED-TTL:PT1H
BEGIN:VTIMEZONE
TZID:America/Los_Angeles
BEGIN:DAYLIGHT
TZOFFSETFROM:-0800
TZOFFSETTO:-0700
TZNAME:PDT
DTSTART:20250309T100000
END:DAYLIGHT
BEGIN:STANDARD
TZOFFSETFROM:-0700
TZOFFSETTO:-0800
TZNAME:PST
DTSTART:20251102T090000
END:STANDARD
END:VTIMEZONE
BEGIN:VEVENT
DTSTART;TZID=America/Los_Angeles:20251105T080000
DTEND;TZID=America/Los_Angeles:20251105T090000
DTSTAMP:20260420T022537
CREATED:20251014T232238Z
LAST-MODIFIED:20251014T232238Z
UID:53847-1762329600-1762333200@nursing.wsu.edu
SUMMARY:Wake Up With Research - Bridging gaps in Pediatric Health: From Neurodevelopment to Immune Response
DESCRIPTION:Join us for November’s Wake Up With Research seminar\, featuring WSU researchers and collaborators from Seattle Children’s Research Institute presenting innovative approaches to pediatric health. \nPresentations include: \n\nConnecting childhood obesity to asthma: Investigating the impact of leptin on airway epithelial cell differentiation and viral immune response\nErica Crespi\, PhD\, and Kourtnie Whitfield\, PhD\, WSU School of Biological Sciences\nJason Debley\, MD\, MPH\, and Weston Powell\, MD\, PhD\, Center for Respiratory Biology and Therapeutics\nDisparities in neurodevelopmental follow-up of high-risk infants in rural communities\nEka\, Burduli\, PhD\, Dept. of Community and Behavioral Health\, WSU Elson S. Floyd College of Medicine\nBrent Collett\, SCRI\, Center for Child Health\, Behavior\, and Development\n\nResearchers at Washington State University are discovering new solutions to some of today’s most challenging health issues\, including addiction\, autism\, cancer\, chronic illness\, rural health\, neurological disease\, sleep\, and much more. WSU Spokane’s Wake Up With Research series gives you a chance to hear directly from experts and scientists as they share their discoveries that help untangle complex problems to enrich our health and quality of life.
URL:https://nursing.wsu.edu/event/wake-up-with-research-bridging-gaps-in-pediatric-health-from-neurodevelopment-to-immune-response/
CATEGORIES:Continuing Education,Webinar
ATTACH;FMTTYPE=image/png:https://wpcdn.web.wsu.edu/wp-nursing/uploads/sites/3014/2025/10/WakeUpWithResearch-wordmarkopts.png
END:VEVENT
BEGIN:VEVENT
DTSTART;TZID=America/Los_Angeles:20251105T120000
DTEND;TZID=America/Los_Angeles:20251105T130000
DTSTAMP:20260420T022537
CREATED:20251013T181546Z
LAST-MODIFIED:20251121T003007Z
UID:53832-1762344000-1762347600@nursing.wsu.edu
SUMMARY:Building Skills for Journal Peer Review
DESCRIPTION:Improve your ability to read and review professional journal articles with a free Continuing Education Series Pain Management Nursing Peer Review Skills Building.  \nLed by the Associate Editor of Pain Management Nursing\, WSU College of Nursing’s Associate Professor Marian Wilson and Editor-in-Chief Elaine Miller\, PhD\, RN from the University of Cincinnati\,  three interactive sessions will build skills needed for peer review. \nMark your calendars for every other Wednesday afternoon from Noon – 1 PM PST on Zoom November 5\, 19\, and December 3.  \nThis series will cover topics essential to complete peer reviews for the American Society for Pain Management Nursing’s official journal Pain Management Nursing including the role and responsibilities of peer reviewers\, resources available to assist reviewers\, and tips on how to construct a review. This opportunity open to anyone interested in joining Pain Management Nursing journal as a peer reviewer or would like to build their publishing skills. Please email marian.wilson@wsu.edu if interested in attending the sessions or volunteering as a Pain Management Nursing peer reviewer. \nGreater Kansas City Chapter of the American Society for Pain Management Nursing is approved as a provider of continuing nursing education by the Kansas State Board of Nursing.  This course offering is approved for 4.5 contact hours applicable for RN\, LPN\, LMHT relicensure.  Kansas State Board of Nursing provider number LT0279-0412GKCC612.
URL:https://nursing.wsu.edu/event/building-skills-for-journal-peer-review/2025-11-05/
CATEGORIES:Continuing Education
ORGANIZER;CN="Dr.%20Marian%20Wilson":MAILTO:marian.wilson@wsu.edu
END:VEVENT
BEGIN:VEVENT
DTSTART;TZID=America/Los_Angeles:20251106T110000
DTEND;TZID=America/Los_Angeles:20251106T130000
DTSTAMP:20260420T022537
CREATED:20251024T223505Z
LAST-MODIFIED:20251024T223957Z
UID:53914-1762426800-1762434000@nursing.wsu.edu
SUMMARY:Honors Presentation Symposium Fall 2025
DESCRIPTION:Join us for the WSU College of Nursing’s Fall Honors Presentation Symposium on Thursday November 6 from 11:00 AM to 1:00 PM in the lobby  at the College of Nursing\, Spokane\, WA. \nThis event showcases the work of our graduating nursing honors students as they present and defend their thesis projects through poster presentations. Their research highlights critical topics in nursing and reflects their dedication to advancing health care. \n\n\n\n\n\nNurse-led Catheter Associated Urinary Tract Infection (CAUTI) Reduction Initiative in a Magnet-Designated Hospital in Eastern WashingtonStudent: Emma Peterson | Thesis Advisor: Tiffanie Rampley | Thesis Evaluator: Cindy Bringham-Althoff | Presentation Time: 10:30 am – 11:55 am\n\nEvaluating the Diagnostic Accuracy of α-Synuclein Seed Amplification Assays for Early Detection of Parkinson’s DiseaseStudent: Jessi Macrae | Thesis Advisor: Joni Shaw | Thesis Evaluator: Theresa Bowden | Presentation Time: 11:30 am – 12:00 pm \n\n\n\n\n\n\nEvent Highlights: \n\nStudent research presentations on a variety of nursing topics\nOpportunities to engage with future nursing leaders\nNetworking with students\, faculty\, and community partners\nLight refreshments will be served\n\nWe welcome faculty\, students\, and community partners to attend and support these outstanding students. \n\nZoom Information\nEmail catherine.bowman@wsu.edu for Zoom connection information. \n\nContact\nJamie L Rock\, PhD\, RN (she\, her\, hers)\nClinical Assistant Professor\nCollege of Nursing Honors Representative\nEmail: Jamie.rock@wsu.edu
URL:https://nursing.wsu.edu/event/honors-presentation-symposium-fall-2025/
LOCATION:WSU College of Nursing\, 103 E. Spokane Falls Blvd.\, Spokane\, WA\, 99210\, United States
ATTACH;FMTTYPE=image/jpeg:https://wpcdn.web.wsu.edu/wp-nursing/uploads/sites/3014/2025/03/AdobeStock_905741817.jpeg
END:VEVENT
BEGIN:VEVENT
DTSTART;TZID=America/Los_Angeles:20251114T130000
DTEND;TZID=America/Los_Angeles:20251114T140000
DTSTAMP:20260420T022537
CREATED:20251113T171855Z
LAST-MODIFIED:20251113T171855Z
UID:54053-1763125200-1763128800@nursing.wsu.edu
SUMMARY:How I Teach (HIT) Roundtable
DESCRIPTION:The Office of Curriculum and Evaluation cordially invites you to the November HIT Roundtable! Come to hear one of your faculty colleagues discuss one of their innovative learning activities at this informal roundtable. Faculty from all CON programs are welcome to attend! \nThis month\, join WSU College of Nursing Teaching Assistant Professor Dr. Cindy Brigham-Althoff to hear about the importance of incorporating play into learning. \nDr. Brigham-Althoff has taught on the Spokane campus for six years and has co-taught the PLBSN OB didactic course since Spring 2022. She also teaches Community Health and OB clinical groups and the Senior Practicum. She is passionate about teaching students in an interactive way that helps them draw connections. She owns a menopause practice in Spokane and enjoys providing evidence-based information to midlife women. She enjoys attending her children’s various events and going on dates with her husband of 22 years. \nWhy come to the roundtable? \n\nInteract with College of Nursing faculty from different departments and programs.\nDiscuss best practices for teaching and learning in an informal setting.\nLeave with new ideas and a fresh perspective on your teaching practices.\n\nSNRS 119 or Zoom\nRegister at https://wsu.co1.qualtrics.com/jfe/form/SV_eJq56GCLqg3Q5Zs\nuing\nWe hope to see you there!
URL:https://nursing.wsu.edu/event/how-i-teach-hit-roundtable/
LOCATION:WSU College of Nursing\, 103 E. Spokane Falls Blvd.\, Spokane\, WA\, 99210\, United States
CATEGORIES:Continuing Education
ORGANIZER;CN="Megan%20Connolly":MAILTO:megan.connolly@wsu.edu
END:VEVENT
BEGIN:VEVENT
DTSTART;TZID=America/Los_Angeles:20251118T120000
DTEND;TZID=America/Los_Angeles:20251118T130000
DTSTAMP:20260420T022537
CREATED:20251023T164931Z
LAST-MODIFIED:20251120T201331Z
UID:53898-1763467200-1763470800@nursing.wsu.edu
SUMMARY:Is a PhD for Me? Nurses Leading Research\, Education and Innovation after the PhD
DESCRIPTION:In celebration of 15 years of PhD graduates from the WSU College of Nursing\, this interactive virtual session will explore what it means to pursue a PhD in Nursing—and where it can take you. Moderated by Dr. Marian Wilson\, the discussion will feature WSU PhD program founding director Dr. Ruth Bindler and alumni: Dr. Elizabeth Schenk\, and Dr. Tullamora Landis. Listen as they share their experiences and insights on applying research\, education\, and leadership skills in their post-PhD careers. \nParticipants will learn about diverse career pathways for nurses and health science professionals and have the opportunity to ask questions about how the PhD journey can align with their professional goals. \nLearning Objectives: \n\nRecognize post-PhD career pathways for nurses and other health science graduates.\nIdentify how the PhD degree prepares individuals as researchers\, educators\, and change agents.\n\nModerator:Dr. Marian Wilson\, Associate Professor and Chair\, Department of Nursing and Symptoms Science\, WSU College of Nursing \nPanelists: \n\nDr. Ruth Bindler\, Emeritus Professor and Founding Director\, WSU PhD in Nursing Program\nDr. Elizabeth Schenk\, Chief Environmental Stewardship Officer\, Providence; Assistant Research Professor\, WSU College of Nursing\nDr. Tullamora Landis\, Assistant Professor\, WSU College of Nursing\n\nRegister to watch the recorded session\n \nApproved for 1.0 nurse continuing education contact hours. \nWashington State University College of Nursing is approved as a provider of nursing continuing professional development by Montana Nurses Association\, an accredited approver with distinction by the American Nurses Credentialing Center’s Commission on Accreditation.
URL:https://nursing.wsu.edu/event/is-a-phd-for-me-nurses-leading-research-education-and-innovation-after-the-phd/
CATEGORIES:Continuing Education,Graduate,Webinar
ATTACH;FMTTYPE=image/jpeg:https://wpcdn.web.wsu.edu/wp-nursing/uploads/sites/3014/2024/12/Nursing-Convocation-Dec-2024_228-scaled.jpg
END:VEVENT
BEGIN:VEVENT
DTSTART;TZID=America/Los_Angeles:20251119T120000
DTEND;TZID=America/Los_Angeles:20251119T130000
DTSTAMP:20260420T022537
CREATED:20251013T181546Z
LAST-MODIFIED:20251121T003008Z
UID:53834-1763553600-1763557200@nursing.wsu.edu
SUMMARY:Building Skills for Journal Peer Review
DESCRIPTION:Improve your ability to read and review professional journal articles with a free Continuing Education Series Pain Management Nursing Peer Review Skills Building.  \nLed by the Associate Editor of Pain Management Nursing\, WSU College of Nursing’s Associate Professor Marian Wilson and Editor-in-Chief Elaine Miller\, PhD\, RN from the University of Cincinnati\,  three interactive sessions will build skills needed for peer review. \nMark your calendars for every other Wednesday afternoon from Noon – 1 PM PST on Zoom November 5\, 19\, and December 3.  \nThis series will cover topics essential to complete peer reviews for the American Society for Pain Management Nursing’s official journal Pain Management Nursing including the role and responsibilities of peer reviewers\, resources available to assist reviewers\, and tips on how to construct a review. This opportunity open to anyone interested in joining Pain Management Nursing journal as a peer reviewer or would like to build their publishing skills. Please email marian.wilson@wsu.edu if interested in attending the sessions or volunteering as a Pain Management Nursing peer reviewer. \nGreater Kansas City Chapter of the American Society for Pain Management Nursing is approved as a provider of continuing nursing education by the Kansas State Board of Nursing.  This course offering is approved for 4.5 contact hours applicable for RN\, LPN\, LMHT relicensure.  Kansas State Board of Nursing provider number LT0279-0412GKCC612.
URL:https://nursing.wsu.edu/event/building-skills-for-journal-peer-review/2025-11-19/
CATEGORIES:Continuing Education
ORGANIZER;CN="Dr.%20Marian%20Wilson":MAILTO:marian.wilson@wsu.edu
END:VEVENT
END:VCALENDAR