BEGIN:VCALENDAR
VERSION:2.0
PRODID:-//College of Nursing - ECPv6.1.3//NONSGML v1.0//EN
CALSCALE:GREGORIAN
METHOD:PUBLISH
X-WR-CALNAME:College of Nursing
X-ORIGINAL-URL:https://nursing.wsu.edu
X-WR-CALDESC:Events for College of Nursing
REFRESH-INTERVAL;VALUE=DURATION:PT1H
X-Robots-Tag:noindex
X-PUBLISHED-TTL:PT1H
BEGIN:VTIMEZONE
TZID:America/Los_Angeles
BEGIN:DAYLIGHT
TZOFFSETFROM:-0800
TZOFFSETTO:-0700
TZNAME:PDT
DTSTART:20250309T100000
END:DAYLIGHT
BEGIN:STANDARD
TZOFFSETFROM:-0700
TZOFFSETTO:-0800
TZNAME:PST
DTSTART:20251102T090000
END:STANDARD
END:VTIMEZONE
BEGIN:VEVENT
DTSTART;VALUE=DATE:20250904
DTEND;VALUE=DATE:20250906
DTSTAMP:20260420T185836
CREATED:20250826T225821Z
LAST-MODIFIED:20250826T225821Z
UID:53421-1756944000-1757116799@nursing.wsu.edu
SUMMARY:Region 10 Opioid Summit
DESCRIPTION:Join us virtually online for the Peaks to Coast: United Opioid and Polysubstance Response Summit\, previously known as the Region 10 Opioid Summit on September 4th and 5th\, 2025. This year’s summit will include engaging speakers and workshops held on an interactive platform where we can explore strategies that increase awareness\, build resilience\, support healing\, and honor traditions. \n\n\n\n\n\n\n\n\n\n\n\nAbout the Summit\n\n\n\n\nThe Peaks to Coast: United Opioid and Polysubstance Response Summit serves as an educational and networking platform in the pacific northwest encompassing Alaska\, Idaho\, Oregon\, and Washington. Its primary focus lies in workforce development initiatives aimed at individuals providing prevention\, intervention\, treatment\, and recovery services related to opioid use disorders. This comprehensive summit offers valuable insights and resources for professionals across the field\, addressing their diverse needs and interests.
URL:https://nursing.wsu.edu/event/region-10-opioid-summit/
LOCATION:Zoom
CATEGORIES:Webinar
ATTACH;FMTTYPE=image/png:https://wpcdn.web.wsu.edu/wp-nursing/uploads/sites/3014/2025/08/Screenshot-2025-08-26-at-3.55.39 PM.png
END:VEVENT
BEGIN:VEVENT
DTSTART;TZID=America/Los_Angeles:20250911T110000
DTEND;TZID=America/Los_Angeles:20250911T120000
DTSTAMP:20260420T185836
CREATED:20250905T165421Z
LAST-MODIFIED:20250905T165431Z
UID:53522-1757588400-1757592000@nursing.wsu.edu
SUMMARY:Advancing a Competency-Based Approach: Threading Policy Through Nursing Curriculum and Practice
DESCRIPTION:Webinar Details\nAs nurses are increasingly called to lead in advocacy\, system change\, and policy development\, it is critical that nursing students graduate with strong policy competencies grounded in both academic and practice-based learning. This webinar features a panel of expert faculty and frontline practitioners who will share strategies for integrating policy across the nursing curriculum using a competency-based education (CBE) framework. \nThe discussion will highlight innovative approaches to connecting policy learning with real-world clinical experiences\, demonstrate how academic-practice partnerships support policy skill development\, and explore why policy literacy is essential to nursing identity and impact. Attendees will leave with concrete ideas for designing meaningful\, competency-driven policy learning experiences that prepare students to lead and influence health outcomes. \nOutcomes:\n\nDevelop practice-based experiences where policy knowledge is applied in real-world context.\nIntegrate policy-related experiential learning opportunities into the curriculum.\nUtilize forms of evidence to assess student engagement\, growth\, and mastery of policy-related competencies.\nEngage students in interdisciplinary or interprofessional policy experiences that build their competency in systems thinking and collaborative leadership.\n\nNote: Recording of the webinar will be available soon after the webinar airs. Visit AACN’s On-Demand Webinars to watch.
URL:https://nursing.wsu.edu/event/advancing-a-competency-based-approach-threading-policy-through-nursing-curriculum-and-practice/
CATEGORIES:Continuing Education
ATTACH;FMTTYPE=image/jpeg:https://wpcdn.web.wsu.edu/wp-nursing/uploads/sites/3014/2025/09/canva-doctor-and-nurse.jpg
END:VEVENT
BEGIN:VEVENT
DTSTART;TZID=America/Los_Angeles:20250926T053000
DTEND;TZID=America/Los_Angeles:20250926T113000
DTSTAMP:20260420T185836
CREATED:20250905T165710Z
LAST-MODIFIED:20250905T165710Z
UID:53525-1758864600-1758886200@nursing.wsu.edu
SUMMARY:Tackling Obesity in Healthcare: Strategies for Nurses
DESCRIPTION:Topic\nThis nursing webinar is designed to address the multifaceted challenges of obesity within healthcare settings. The sessions will cover key topics such as understanding obesity trends\, assessment and intervention strategies\, promoting lifestyle changes\, addressing obesity-related stigma\, and collaborating within interdisciplinary teams for comprehensive obesity management. By the end of the webinar\, participants will be able to discuss obesity trends\, health implications\, and associated comorbidities\, and describe assessment skills and intervention strategies for effective obesity management in clinical practice including counseling skills to promote lifestyle changes\, healthy behaviors\, and patient engagement in obesity care. \nCredits Offered\nThis event offers 5.0 contact hours to attendees.\nAccreditation Info: Saint Anselm College is approved as a provider of nursing continuing professional development by the Northeast Multistate Division Education Unit\, an accredited approver by the American Nurses Credentialing Center’s Commission on Accreditation. \nAdditional Information\nThis program is designed for nurses and other professionals involved in health initiatives related to obesity management. \n 
URL:https://nursing.wsu.edu/event/tackling-obesity-in-healthcare-strategies-for-nurses/
CATEGORIES:Continuing Education
END:VEVENT
END:VCALENDAR