BEGIN:VCALENDAR
VERSION:2.0
PRODID:-//College of Nursing - ECPv6.1.3//NONSGML v1.0//EN
CALSCALE:GREGORIAN
METHOD:PUBLISH
X-WR-CALNAME:College of Nursing
X-ORIGINAL-URL:https://nursing.wsu.edu
X-WR-CALDESC:Events for College of Nursing
REFRESH-INTERVAL;VALUE=DURATION:PT1H
X-Robots-Tag:noindex
X-PUBLISHED-TTL:PT1H
BEGIN:VTIMEZONE
TZID:America/Los_Angeles
BEGIN:DAYLIGHT
TZOFFSETFROM:-0800
TZOFFSETTO:-0700
TZNAME:PDT
DTSTART:20250309T100000
END:DAYLIGHT
BEGIN:STANDARD
TZOFFSETFROM:-0700
TZOFFSETTO:-0800
TZNAME:PST
DTSTART:20251102T090000
END:STANDARD
END:VTIMEZONE
BEGIN:VEVENT
DTSTART;TZID=America/Los_Angeles:20250813T120000
DTEND;TZID=America/Los_Angeles:20250813T160000
DTSTAMP:20260421T005330
CREATED:20240423T172240Z
LAST-MODIFIED:20250710T162521Z
UID:47954-1755086400-1755100800@nursing.wsu.edu
SUMMARY:Doctor of Nursing Practice (DNP) Orientation
DESCRIPTION:We are excited to invite you to join us on August 13\, 2025\, from 12 p.m. to 4 p.m. This event is a wonderful opportunity for incoming DNP students to get acquainted with our program\, faculty\, and fellow students. While we highly encourage in-person attendance; a virtual Zoom option will also be available. \nPlease RSVP for your preferred attendance method. \nFurther details will be provided as the event approaches. \nFor those planning to join us on campus\, directions and parking information for both our Spokane and Vancouver locations are available below. We are eagerly looking forward to welcoming you to our community and supporting you in your journey to becoming a leader in nursing! \nGetting to campus \nWSU Spokane \n\nCampus map\nParking\n\nWSU Tri-Cities \n\nCampus map / parking info (scroll down to Nursing)\n\nWSU Vancouver \n\nCampus map\nParking
URL:https://nursing.wsu.edu/event/doctor-of-nursing-practice-dnp-orientation/
CATEGORIES:In Person Open House,Open House,Virtual Open House
ATTACH;FMTTYPE=image/jpeg:https://wpcdn.web.wsu.edu/wp-nursing/uploads/sites/3014/2024/04/Nursing-white-coat-ceremony-98.jpg
END:VEVENT
END:VCALENDAR