BEGIN:VCALENDAR
VERSION:2.0
PRODID:-//College of Nursing - ECPv6.1.3//NONSGML v1.0//EN
CALSCALE:GREGORIAN
METHOD:PUBLISH
X-ORIGINAL-URL:https://nursing.wsu.edu
X-WR-CALDESC:Events for College of Nursing
REFRESH-INTERVAL;VALUE=DURATION:PT1H
X-Robots-Tag:noindex
X-PUBLISHED-TTL:PT1H
BEGIN:VTIMEZONE
TZID:America/Los_Angeles
BEGIN:DAYLIGHT
TZOFFSETFROM:-0800
TZOFFSETTO:-0700
TZNAME:PDT
DTSTART:20260308T100000
END:DAYLIGHT
BEGIN:STANDARD
TZOFFSETFROM:-0700
TZOFFSETTO:-0800
TZNAME:PST
DTSTART:20261101T090000
END:STANDARD
END:VTIMEZONE
BEGIN:VEVENT
DTSTART;TZID=America/Los_Angeles:20260508T150000
DTEND;TZID=America/Los_Angeles:20260508T170000
DTSTAMP:20260419T224119
CREATED:20230509T160903Z
LAST-MODIFIED:20260122T000342Z
UID:42060-1778252400-1778259600@nursing.wsu.edu
SUMMARY:Spokane Nursing Graduation and Pinning Ceremony Spring 2026
DESCRIPTION:Date: May 8\, 2026\nTime: 3:00 pm – 5:00 pm\nLocation: Whitworth University Cowles Auditorium\n400 W Hawthorne Rd\, Spokane\, WA\nView Whitworth Campus Map (PDF) \nA live stream on YouTube will be available for this event. \n\nStudent RSVP\nGraduating students from the Spokane campus should RSVP before April 1\, 2026.\nRSVP Form \n\n 
URL:https://nursing.wsu.edu/event/nursing-graduation-and-pinning-ceremony/
LOCATION:Whitworth University Cowles Auditorium\, 400 W Hawthorne Rd\, Spokane\, WA\, 99251\, United States
CATEGORIES:Convocation,Graduation & Pinning
ATTACH;FMTTYPE=image/jpeg:https://wpcdn.web.wsu.edu/wp-nursing/uploads/sites/3014/2025/12/Convocation-Spokane-FA25-120525A6707601-1920x1080-1.jpg
GEO:47.7518135;-117.4181775
X-APPLE-STRUCTURED-LOCATION;VALUE=URI;X-ADDRESS=Whitworth University Cowles Auditorium 400 W Hawthorne Rd Spokane WA 99251 United States;X-APPLE-RADIUS=500;X-TITLE=400 W Hawthorne Rd:geo:-117.4181775,47.7518135
END:VEVENT
BEGIN:VEVENT
DTSTART;TZID=America/Los_Angeles:20260512T183000
DTEND;TZID=America/Los_Angeles:20260512T203000
DTSTAMP:20260419T224119
CREATED:20260313T221423Z
LAST-MODIFIED:20260313T221423Z
UID:56891-1778610600-1778617800@nursing.wsu.edu
SUMMARY:WSU Vancouver’s 2026 Commencement Ceremony
DESCRIPTION:Celebrate your milestone moment at Washington State University Vancouver’s 2026 Commencement Ceremony. \nTuesday\, May 12\n6:30 – 8:30 p.m\nCascades Amphitheater\, Ridgefield\, WA \nGuest tickets are not required. Event parking is free. \n  \nGrad Checklist\nTo earn your degree and take part in Commencement\, there are two required steps. Applying for your degree and registering to walk in the ceremony are separate processes\, and both must be completed if you plan to participate. \nApply for your degree\nSubmitting a graduation application confirms that you are completing your degree requirements and allows your degree to be awarded. \nApply by March 6 to be included in the Commencement program. \nA $60 application/processing fee is required. Applications submitted after March 6 will include a $75 late fee. The last day to apply for graduation is May 1. \nRSVP for the Commencement ceremony\nGraduates who plan to walk across the stage must register in advance. Registration reserves your place in the ceremony and lets you share how your name should be pronounced. \nRSVP by April 10. \n  \n  \n  \n  \n  \n  \n\n\n\n\n\n\n\n\n\n\n\n\n\n\n\n\n\n\nCan
URL:https://nursing.wsu.edu/event/wsu-vancouvers-2026-commencement-ceremony/
CATEGORIES:Graduation & Pinning
ATTACH;FMTTYPE=image/jpeg:https://wpcdn.web.wsu.edu/wp-nursing/uploads/sites/3014/2026/03/vancouver-commencement-graduates-02-1760x640-1.jpg
END:VEVENT
BEGIN:VEVENT
DTSTART;VALUE=DATE:20260513
DTEND;VALUE=DATE:20260515
DTSTAMP:20260419T224119
CREATED:20251223T213340Z
LAST-MODIFIED:20260309T221858Z
UID:54332-1778630400-1778803199@nursing.wsu.edu
SUMMARY:Inland Northwest Nurse Educator Conference
DESCRIPTION:Registration is open
URL:https://nursing.wsu.edu/event/inland-northwest-nurse-educator-conference/
LOCATION:Gonzaga University\, Hemmingson / 702 E. Desmet\, Spokane\, WA\, 99258\, United States
CATEGORIES:Conference,Continuing Education
END:VEVENT
BEGIN:VEVENT
DTSTART;VALUE=DATE:20260527
DTEND;VALUE=DATE:20260529
DTSTAMP:20260419T224119
CREATED:20230322T183638Z
LAST-MODIFIED:20260309T211358Z
UID:45065-1779840000-1780012799@nursing.wsu.edu
SUMMARY:SANE 2-Day Clinical Skills Training
DESCRIPTION:Sexual Assault Nurse Examiner Course This in-person adult Sexual Assault Nurse Examiner (SANE) clinical training program is geared toward the Registered Nurse or Advanced Practice Registered Nurse planning on practicing in the role of SANE. This course meets the IAFN SANE Education Guidelines and provides 16 contact hours in nursing upon completion. Requirements:  \n\nParticipants must have a minimum of an RN license before beginning this course\nParticipants must provide proof of completion of a 40-hour SANE training prior to taking this course\n\nCourse Fee \n\n$425 per person for 2-day class for individuals with an out of state RN license\n\n\n\nRegister Today!\n\n\nInstructors \n\n\nVictoria Sattler PhD\, MN\, RN\, SANE-A Providence Sacred Heart Medical Center\n\n\n\nJuliane Rohr RN\, SANE-A Providence Health & Services\n\n\n\nJennifer Cantrell MSN\, APRN\, NPD-BC\, FNP-BC\, SANE-A\, SANE-P MultiCare\n\n\nThis offering has been approved for 16.0 nursing continuing education contact hours. The International Association of Forensic Nurses is accredited as a provider of nursing continuing professional development by the American Nurses Credentialing Center’s Commission on Accreditation.  
URL:https://nursing.wsu.edu/event/sane-clinical-skills-course/
LOCATION:WSU College of Nursing\, 103 E. Spokane Falls Blvd.\, Spokane\, WA\, 99210\, United States
CATEGORIES:Continuing Education
ATTACH;FMTTYPE=image/jpeg:https://wpcdn.web.wsu.edu/wp-nursing/uploads/sites/3014/2023/03/Nurse-Data-Typing-AdobeStock_570361774-scaled-e1684274787953.jpeg
ORGANIZER;CN="Nursing%20Professional%20Development":MAILTO:nursing.profdev@wsu.edu
END:VEVENT
BEGIN:VEVENT
DTSTART;TZID=America/Los_Angeles:20260603T170000
DTEND;TZID=America/Los_Angeles:20260603T180000
DTSTAMP:20260419T224119
CREATED:20240724T204403Z
LAST-MODIFIED:20260302T234358Z
UID:48455-1780506000-1780509600@nursing.wsu.edu
SUMMARY:RN-BSN Virtual Open House
DESCRIPTION:The WSU College of Nursing will host a Virtual Open House for prospective RN-BSN students interested in Spring 2026 or future term enrollment.\nThis event is for for RNs and associate degree nursing students. \nThe RN-BSN program is a bachelor’s completion program for RNs who have associate nursing degrees. \nProspective students will get an overview of the program and can ask program directors and advisors questions via Zoom. \nLearn how the WSU College of Nursing has made getting your BSN even more convenient. \n\n                \n                        \n                            RN-BSN Virtual Open House Registration\n                            \n                        \n                        Name*\n                            \n                            \n                                                    \n                                                    First\n                                                \n                            \n                            \n                                                    \n                                                    Last\n                                                \n                            \n                        Email*\n                                \n                                    \n                                    Enter Email\n                                \n                                \n                                    \n                                    Confirm Email\n                                \n                                \n                            Event Dates*June 3\, 2026Select the open house you'd like to attend. \n          \n            \n            \n            \n            \n            \n            \n            \n            \n            \n        \n                        Δ
URL:https://nursing.wsu.edu/event/rn-bsn-virtual-open-house/
CATEGORIES:Open House,RN-BSN,Virtual Open House
ATTACH;FMTTYPE=image/jpeg:https://wpcdn.web.wsu.edu/wp-nursing/uploads/sites/3014/2022/12/nursing-photo-shoot-133-scaled.jpg
END:VEVENT
BEGIN:VEVENT
DTSTART;TZID=America/Los_Angeles:20260808T160000
DTEND;TZID=America/Los_Angeles:20260808T193000
DTSTAMP:20260419T224119
CREATED:20221103T185811Z
LAST-MODIFIED:20260331T215958Z
UID:55714-1786204800-1786217400@nursing.wsu.edu
SUMMARY:School Nurse: Preparation for Initial Certification
DESCRIPTION:Course Description\nThis course is designed for a nurse with a BSN who wants to prepare for certification as a school nurse. Topics include the role of the school nurse\, schools and society\, growth and development\, learning strategies\, school law\, and the legal and professional responsibilities of the ESA-prepared school nurse. This hybrid course incorporates independent study and classroom instruction. Independent study course materials are to be completed and submitted to the faculty prior to the dates of classroom instruction for evaluation. \nThe WSU College of Nursing is approved as a provider of clock hours by the Washington State Office of the Superintendent of Public Instruction. \nCourse Dates\nThe next session for the course will be offered via virtual classroom using Zoom. This option allows for real time\, face-to-face education\, which is required by the Office of Superintendent of Public Instruction to count clock hours. \nThe course will include 20 hours of instruction (13 hours of self-study and 7 hours of Zoom). \nDates:  \n\nAugust 8\, 2026\, 4:00 – 7:30 p.m.\, delivered live via Zoom\n\nInstructor: Meredith Clarke MSN\, RN \nClock hours: 24 \nCost: $450\nLimited to 25 participants. \nScholarship Available\nA $100 scholarship is being offered to participants with financial need. Use coupon code: SNURS24\nScholarship is limited to 25 qualified registrants. \nThe funding is provided by the Linda Bordwell Educational Fund for School Nursing\, regardless of financial need.\n(Note: We are unable to process purchase orders at this time.) \n\nCourse Objectives\nAfter completing the course\, participants will be able to: \n\nUnderstand the school nurse role in whole-child health and identify student health needs in compliance with Washington State standards.\nEvaluate and implement individualized healthcare and emergency care plans.\nSafely administer medications and delegate tasks according to state nurse practice and delegation laws.\nApply Washington State school health policies\, immunization requirements\, and legal guidelines.\nParticipate in and contribute meaningfully to health promotion and disease prevention initiatives in schools.\nCollaborate and communicate effectively with educators\, families\, and community health partners to support student well-being.\nIntegrate trauma-informed\, culturally responsive\, and equitable approaches in school nursing practice.\nPractice ethically and professionally\, adhering to the ANA Code of Ethics and professional standards.\nUse data and evaluation methods to guide continuous improvement in school health services.
URL:https://nursing.wsu.edu/event/school-nursing-preparation-for-initial-certification/2026-08-08/
LOCATION:WSU College of Nursing\, 103 E. Spokane Falls Blvd.\, Spokane\, WA\, 99210\, United States
CATEGORIES:Continuing Education
ATTACH;FMTTYPE=image/jpeg:https://wpcdn.web.wsu.edu/wp-nursing/uploads/sites/3014/2020/06/School-nurse.jpg
ORGANIZER;CN="Nursing%20Professional%20Development":MAILTO:nursing.profdev@wsu.edu
END:VEVENT
END:VCALENDAR