BEGIN:VCALENDAR
VERSION:2.0
PRODID:-//College of Nursing - ECPv6.1.3//NONSGML v1.0//EN
CALSCALE:GREGORIAN
METHOD:PUBLISH
X-ORIGINAL-URL:https://nursing.wsu.edu
X-WR-CALDESC:Events for College of Nursing
REFRESH-INTERVAL;VALUE=DURATION:PT1H
X-Robots-Tag:noindex
X-PUBLISHED-TTL:PT1H
BEGIN:VTIMEZONE
TZID:America/Los_Angeles
BEGIN:DAYLIGHT
TZOFFSETFROM:-0800
TZOFFSETTO:-0700
TZNAME:PDT
DTSTART:20250309T100000
END:DAYLIGHT
BEGIN:STANDARD
TZOFFSETFROM:-0700
TZOFFSETTO:-0800
TZNAME:PST
DTSTART:20251102T090000
END:STANDARD
END:VTIMEZONE
BEGIN:VEVENT
DTSTART;TZID=America/Los_Angeles:20251205T150000
DTEND;TZID=America/Los_Angeles:20251205T150000
DTSTAMP:20260420T022536
CREATED:20240905T152846Z
LAST-MODIFIED:20251119T202311Z
UID:48631-1764946800-1764946800@nursing.wsu.edu
SUMMARY:Spokane Convocation Fall 2025
DESCRIPTION:Convocation is the WSU College of Nursing’s traditional pinning ceremony\, where nursing faculty honor pre-licensure BSN and RN-BSN graduates into the BSN profession by bestowing a nursing pin.\nGraduate students are also welcomed at this ceremony and will be honored or hooded.  \nConvocation is different than Commencement\, which features students from different colleges in one big ceremony together. Commencement ceremonies are held on varying campus depending on the semester. Doctoral students will be hooded at both Convocation and Commencement if they choose to participate in both ceremonies. \nDate: December 5\, 2025\nTime: 3:00 p.m. – 4:00 p.m. (approximately 1-hour)\nStudents to arrive no later than 2:00 p.m.\nLocation: Whitworth University Cowles Auditorium\n\n400 W Hawthorne Rd\, Spokane\, WA\nView Whitworth Campus Map (PDF)\nParking is free. \nLivestream: available on YouTube\n\nREGISTER TODAY \nPlease contact nursing.admissions@wsu.edu if you have any questions. 
URL:https://nursing.wsu.edu/event/spokane-convocation-fall/
LOCATION:Whitworth University Cowles Auditorium\, 400 W Hawthorne Rd\, Spokane\, WA\, 99251\, United States
CATEGORIES:Convocation
GEO:47.7518135;-117.4181775
X-APPLE-STRUCTURED-LOCATION;VALUE=URI;X-ADDRESS=Whitworth University Cowles Auditorium 400 W Hawthorne Rd Spokane WA 99251 United States;X-APPLE-RADIUS=500;X-TITLE=400 W Hawthorne Rd:geo:-117.4181775,47.7518135
END:VEVENT
END:VCALENDAR