BEGIN:VCALENDAR
VERSION:2.0
PRODID:-//College of Nursing - ECPv6.1.3//NONSGML v1.0//EN
CALSCALE:GREGORIAN
METHOD:PUBLISH
X-WR-CALNAME:College of Nursing
X-ORIGINAL-URL:https://nursing.wsu.edu
X-WR-CALDESC:Events for College of Nursing
REFRESH-INTERVAL;VALUE=DURATION:PT1H
X-Robots-Tag:noindex
X-PUBLISHED-TTL:PT1H
BEGIN:VTIMEZONE
TZID:America/Los_Angeles
BEGIN:DAYLIGHT
TZOFFSETFROM:-0800
TZOFFSETTO:-0700
TZNAME:PDT
DTSTART:20250309T100000
END:DAYLIGHT
BEGIN:STANDARD
TZOFFSETFROM:-0700
TZOFFSETTO:-0800
TZNAME:PST
DTSTART:20251102T090000
END:STANDARD
END:VTIMEZONE
BEGIN:VEVENT
DTSTART;TZID=America/Los_Angeles:20251106T110000
DTEND;TZID=America/Los_Angeles:20251106T130000
DTSTAMP:20260420T091557
CREATED:20251024T223505Z
LAST-MODIFIED:20251024T223957Z
UID:53914-1762426800-1762434000@nursing.wsu.edu
SUMMARY:Honors Presentation Symposium Fall 2025
DESCRIPTION:Join us for the WSU College of Nursing’s Fall Honors Presentation Symposium on Thursday November 6 from 11:00 AM to 1:00 PM in the lobby  at the College of Nursing\, Spokane\, WA. \nThis event showcases the work of our graduating nursing honors students as they present and defend their thesis projects through poster presentations. Their research highlights critical topics in nursing and reflects their dedication to advancing health care. \n\n\n\n\n\nNurse-led Catheter Associated Urinary Tract Infection (CAUTI) Reduction Initiative in a Magnet-Designated Hospital in Eastern WashingtonStudent: Emma Peterson | Thesis Advisor: Tiffanie Rampley | Thesis Evaluator: Cindy Bringham-Althoff | Presentation Time: 10:30 am – 11:55 am\n\nEvaluating the Diagnostic Accuracy of α-Synuclein Seed Amplification Assays for Early Detection of Parkinson’s DiseaseStudent: Jessi Macrae | Thesis Advisor: Joni Shaw | Thesis Evaluator: Theresa Bowden | Presentation Time: 11:30 am – 12:00 pm \n\n\n\n\n\n\nEvent Highlights: \n\nStudent research presentations on a variety of nursing topics\nOpportunities to engage with future nursing leaders\nNetworking with students\, faculty\, and community partners\nLight refreshments will be served\n\nWe welcome faculty\, students\, and community partners to attend and support these outstanding students. \n\nZoom Information\nEmail catherine.bowman@wsu.edu for Zoom connection information. \n\nContact\nJamie L Rock\, PhD\, RN (she\, her\, hers)\nClinical Assistant Professor\nCollege of Nursing Honors Representative\nEmail: Jamie.rock@wsu.edu
URL:https://nursing.wsu.edu/event/honors-presentation-symposium-fall-2025/
LOCATION:WSU College of Nursing\, 103 E. Spokane Falls Blvd.\, Spokane\, WA\, 99210\, United States
ATTACH;FMTTYPE=image/jpeg:https://wpcdn.web.wsu.edu/wp-nursing/uploads/sites/3014/2025/03/AdobeStock_905741817.jpeg
END:VEVENT
END:VCALENDAR