BEGIN:VCALENDAR
VERSION:2.0
PRODID:-//College of Nursing - ECPv6.1.3//NONSGML v1.0//EN
CALSCALE:GREGORIAN
METHOD:PUBLISH
X-WR-CALNAME:College of Nursing
X-ORIGINAL-URL:https://nursing.wsu.edu
X-WR-CALDESC:Events for College of Nursing
REFRESH-INTERVAL;VALUE=DURATION:PT1H
X-Robots-Tag:noindex
X-PUBLISHED-TTL:PT1H
BEGIN:VTIMEZONE
TZID:America/Los_Angeles
BEGIN:DAYLIGHT
TZOFFSETFROM:-0800
TZOFFSETTO:-0700
TZNAME:PDT
DTSTART:20250309T100000
END:DAYLIGHT
BEGIN:STANDARD
TZOFFSETFROM:-0700
TZOFFSETTO:-0800
TZNAME:PST
DTSTART:20251102T090000
END:STANDARD
END:VTIMEZONE
BEGIN:VEVENT
DTSTART;TZID=America/Los_Angeles:20251030T090000
DTEND;TZID=America/Los_Angeles:20251030T133000
DTSTAMP:20260420T091555
CREATED:20250915T230212Z
LAST-MODIFIED:20250915T230234Z
UID:53600-1761814800-1761831000@nursing.wsu.edu
SUMMARY:So You Want to be a Professor Workshop
DESCRIPTION:Do you want to be a professor? Washington State needs more nurse educators! \nCan you envision yourself teaching nursing students at a community college\, university\, or as a clinical instructor? Jump-start your journey with this unique workshop. The Washington Center for Nursing (WCN) is committed to creating a strong and diverse nurse faculty workforce. Learn more \nRegister \n 
URL:https://nursing.wsu.edu/event/do-you-want-to-be-a-professor-washington-state-needs-more-nurse-educators/
CATEGORIES:Continuing Education
END:VEVENT
BEGIN:VEVENT
DTSTART;TZID=America/Los_Angeles:20251030T180000
DTEND;TZID=America/Los_Angeles:20251030T200000
DTSTAMP:20260420T091555
CREATED:20250924T170838Z
LAST-MODIFIED:20251014T223841Z
UID:53652-1761847200-1761854400@nursing.wsu.edu
SUMMARY:Below the Belt - Screening & Discussion
DESCRIPTION:Period\, Pain\, Reproductive Health \nMillions are suffering in silence \nDo you know Endometriosis and Its Symptoms?\n \n  \nOctober 30th | 6-8 pm | SAC20\nRegister online for in person or Zoom access \n“Below The Belt\,” a documentary film about endometriosis\,\nfollowed by a discussion on the disease. \nhttps://www.belowthebelt.film/ \n\nPresented by:  \nOBGYN Elson S. Floyd College of Medicine \nCollege of Nursing \nOBGYN Interest Group \nCenter for Reproductive Biology \n  \n✨ Earn 2.0 CNE Contact Hours! ✨\nJoin us for this educational opportunity and earn 2.0 continuing nursing education (CNE) contact hours. \nAccreditation:\nWashington State University College of Nursing is approved as a provider of nursing continuing professional development by the Montana Nurses Association\, an accredited approver with distinction by the ANCC’s Commission on Accreditation. \nDisclosure:\nNo faculty involved in this activity have relevant financial relationships with ineligible companies to disclose.
URL:https://nursing.wsu.edu/event/below-the-belt-screening-discussion/
LOCATION:Spokane Academic Center (SAC)\, 412 E Spokane Falls Blvd\, Spokane\, United States
CATEGORIES:Continuing Education,Lecture
ATTACH;FMTTYPE=image/png:https://wpcdn.web.wsu.edu/wp-nursing/uploads/sites/3014/2025/09/Screenshot-2025-09-24-at-10.07.48 AM.png
END:VEVENT
END:VCALENDAR