BEGIN:VCALENDAR
VERSION:2.0
PRODID:-//College of Nursing - ECPv6.1.3//NONSGML v1.0//EN
CALSCALE:GREGORIAN
METHOD:PUBLISH
X-WR-CALNAME:College of Nursing
X-ORIGINAL-URL:https://nursing.wsu.edu
X-WR-CALDESC:Events for College of Nursing
REFRESH-INTERVAL;VALUE=DURATION:PT1H
X-Robots-Tag:noindex
X-PUBLISHED-TTL:PT1H
BEGIN:VTIMEZONE
TZID:America/Los_Angeles
BEGIN:DAYLIGHT
TZOFFSETFROM:-0800
TZOFFSETTO:-0700
TZNAME:PDT
DTSTART:20250309T100000
END:DAYLIGHT
BEGIN:STANDARD
TZOFFSETFROM:-0700
TZOFFSETTO:-0800
TZNAME:PST
DTSTART:20251102T090000
END:STANDARD
END:VTIMEZONE
BEGIN:VEVENT
DTSTART;TZID=America/Los_Angeles:20251015T120000
DTEND;TZID=America/Los_Angeles:20251015T130000
DTSTAMP:20260420T185838
CREATED:20251003T173942Z
LAST-MODIFIED:20251003T174018Z
UID:53764-1760529600-1760533200@nursing.wsu.edu
SUMMARY:Grand Rounds: Federal Impacts on Medicaid
DESCRIPTION:📅 Wednesday\, October 15\, 2025\n🕛 12:00 p.m. (PT)\n📍 In-person & Online \nPresented by:\nPacific Northwest University of Health Sciences (PNWU)\nWashington State University College of Nursing\n✨ ANCC and CME credit available \nIn-Person Details:\nPlease arrive by 11:30 a.m.\nLunch will be provided \nTo register: https://form.jotform.com/252726271748060
URL:https://nursing.wsu.edu/event/grand-rounds-federal-impacts-on-medicaid/
LOCATION:Butler Haney Hall Auditorium\, 200 University Pkwy\, Yakima\, 98901
CATEGORIES:Continuing Education,Lecture
ATTACH;FMTTYPE=image/png:https://wpcdn.web.wsu.edu/wp-nursing/uploads/sites/3014/2025/10/image003.png
END:VEVENT
END:VCALENDAR